BEGIN:VCALENDAR
VERSION:2.0
PRODID:-//Papamarkou Street - ECPv4.6.22.1//NONSGML v1.0//EN
CALSCALE:GREGORIAN
METHOD:PUBLISH
X-WR-CALNAME:Papamarkou Street
X-ORIGINAL-URL:https://papamarkoustreet.gr
X-WR-CALDESC:Events for Papamarkou Street
BEGIN:VEVENT
DTSTART;VALUE=DATE:20181231
DTEND;VALUE=DATE:20190101
DTSTAMP:20260424T172603
CREATED:20181230T104115Z
LAST-MODIFIED:20181230T104115Z
UID:2813-1546214400-1546300799@papamarkoustreet.gr
SUMMARY:Το τελευταίο κρασί της χρονιάς στην Παπαμάρκου
DESCRIPTION:  \n  \nΤη Δευτέρα\, παραμονή Πρωτοχρονιάς\, σύμφωνα με την παράδοση\, όλοι οι δρόμοι στο κέντρο της Θεσσαλονίκης θα είναι γεμάτοι. Για όσους βρεθούν εκεί\, μία βόλτα και από την Παπαμάρκου 25  «είναι επιβεβλημένη» για το καθιερωμένο κρασάκι της τελευταίας ημέρας ενός χρόνου που μας αποχαιρετά. \n
URL:https://papamarkoustreet.gr/event/to-teleytaio-krasi-tis-chronias-stin-papamarkoy/
LOCATION:Papamarkou\, Papamarkou 02-45\, THESSALONIKI\, Thessaloniki\, 54623\, Greece
ATTACH;FMTTYPE=image/jpeg:https://papamarkoustreet.gr/wp-content/uploads/2018/12/10891921_839052682804674_1381671140706495222_n-1.jpg
END:VEVENT
END:VCALENDAR