BEGIN:VCALENDAR
VERSION:2.0
PRODID:-//Papamarkou Street - ECPv4.6.22.1//NONSGML v1.0//EN
CALSCALE:GREGORIAN
METHOD:PUBLISH
X-WR-CALNAME:Papamarkou Street
X-ORIGINAL-URL:https://papamarkoustreet.gr
X-WR-CALDESC:Events for Papamarkou Street
BEGIN:VEVENT
DTSTART;TZID=UTC+0:20181215T130000
DTEND;TZID=UTC+0:20181216T190000
DTSTAMP:20260424T191809
CREATED:20181214T181543Z
LAST-MODIFIED:20181214T181543Z
UID:2762-1544878800-1544986800@papamarkoustreet.gr
SUMMARY:Χριστουγεννιάτικο Bazaar: «Γιορτάζουμε με τους φίλους μας!»
DESCRIPTION:15 και 16 Δεκεμβρίου\, 13:00-19:00 στη Σχεδία στην Πόλη (Παπαμάρκου 8) \n«Γιορτάζουμε με τους φίλους μας!» \nΧριστουγεννιάτικο bazaar\, δράσεις και κεράσματα για τους μικρούς και μεγάλους φίλους μας. \nΤο σαββατοκύριακο 15 και 16 Δεκεμβρίου\, από τις 13:00 έως τις 19:00\, η «Σχεδία στην πόλη» διοργανώνει ένα εορταστικό διήμερο για να γνωρίσετε και να στηρίξετε το έργο της. \nΣας περιμένουμε με…. \n-Χειροποίητα στολίδια και δώρα στη γιορτινή μας «Δωρογωνιά»\n-Δημιουργικά Do It Yourself χριστουγεννιάτικα εργαστήρια κατασκευών για παιδιά και για μεγάλους\n– Ζεστό κρασί και παραδοσιακά κεράσματα! \nΤα έσοδα θα διατεθούν για τη λειτουργία των νέων εθελοντικών μας προγραμμάτων «Παιδικό στέκι» και «Οι βαλίτσες των παιχνιδιών ταξιδεύουν… εκτός!»\, που θα ξεκινήσουν τον Φεβρουάριο 2019\, στον χώρο μας\, σε γειτονιές της πόλης και σε χωριά\, με στόχο να προσφέρουμε καλλιτεχνικές δράσεις σε παιδιά με λιγότερες ευκαιρίες δημιουργικής μάθησης. \n
URL:https://papamarkoustreet.gr/event/christoygenniatiko-bazaar-giortazoyme-me-toys-filoys-mas/
CATEGORIES:Bazaar
ATTACH;FMTTYPE=image/jpeg:https://papamarkoustreet.gr/wp-content/uploads/2018/12/kira-auf-der-heide-475623-unsplash.jpg
END:VEVENT
END:VCALENDAR